BEGIN:VCALENDAR
VERSION:2.0
PRODID:-//Tukios.com/
BEGIN:VEVENT
UID:cdf18ec0-1a06-4cfe-be93-7b9c3179ec80@www.robertsaubinfuneralhome.com
DTSTAMP:20260420T224433Z
DTSTART:20260425T160000Z
DTEND:20260425T170000Z
SUMMARY:Visitation
DESCRIPTION:
URL:https://www.robertsaubinfuneralhome.com/obituaries/timothy-cummings
LOCATION: 266 Allen Ave  Poultney VT 05764
GEO:43.5244624;-73.239327
END:VEVENT
END:VCALENDAR